BEGIN:VCALENDAR
VERSION:2.0
PRODID:-//Spark Neurocare - ECPv4.6.2//NONSGML v1.0//EN
CALSCALE:GREGORIAN
METHOD:PUBLISH
X-WR-CALNAME:Spark Neurocare
X-ORIGINAL-URL:http://www.sparkneurocare.com.au
X-WR-CALDESC:Events for Spark Neurocare
BEGIN:VEVENT
DTSTART;TZID=Australia/Brisbane:20180915T100000
DTEND;TZID=Australia/Brisbane:20180915T130000
DTSTAMP:20210226T154225
CREATED:20180913T025728Z
LAST-MODIFIED:20180913T025728Z
UID:1329-1537005600-1537016400@www.sparkneurocare.com.au
SUMMARY:MND Workshop - Allied Health Professionals and MND
DESCRIPTION: \n  \n  \n  \n  \n  \n  \n  \n  \n  \nDownload the flyer for more information… MND Workshop_Allied Health Professionals_150918 \n
URL:http://www.sparkneurocare.com.au/event/mnd-workshop-allied-health-professionals-and-mnd/
ORGANIZER;CN="MND%20%26%20Me%20Foundation":MAILTO:services@mndandme.com.au
END:VEVENT
END:VCALENDAR